BEGIN:VCALENDAR
VERSION:2.0
PRODID:-//Olive Oil Marketplace - ECPv6.15.20//NONSGML v1.0//EN
CALSCALE:GREGORIAN
METHOD:PUBLISH
X-WR-CALNAME:Olive Oil Marketplace
X-ORIGINAL-URL:https://oliveoilmarketplace.com
X-WR-CALDESC:Events for Olive Oil Marketplace
REFRESH-INTERVAL;VALUE=DURATION:PT1H
X-Robots-Tag:noindex
X-PUBLISHED-TTL:PT1H
BEGIN:VTIMEZONE
TZID:America/Chicago
BEGIN:DAYLIGHT
TZOFFSETFROM:-0600
TZOFFSETTO:-0500
TZNAME:CDT
DTSTART:20250309T080000
END:DAYLIGHT
BEGIN:STANDARD
TZOFFSETFROM:-0500
TZOFFSETTO:-0600
TZNAME:CST
DTSTART:20251102T070000
END:STANDARD
BEGIN:DAYLIGHT
TZOFFSETFROM:-0600
TZOFFSETTO:-0500
TZNAME:CDT
DTSTART:20260308T080000
END:DAYLIGHT
BEGIN:STANDARD
TZOFFSETFROM:-0500
TZOFFSETTO:-0600
TZNAME:CST
DTSTART:20261101T070000
END:STANDARD
BEGIN:DAYLIGHT
TZOFFSETFROM:-0600
TZOFFSETTO:-0500
TZNAME:CDT
DTSTART:20270314T080000
END:DAYLIGHT
BEGIN:STANDARD
TZOFFSETFROM:-0500
TZOFFSETTO:-0600
TZNAME:CST
DTSTART:20271107T070000
END:STANDARD
END:VTIMEZONE
BEGIN:VEVENT
DTSTART;TZID=America/Chicago:20260417T100000
DTEND;TZID=America/Chicago:20260418T160000
DTSTAMP:20260419T092441
CREATED:20260324T234325Z
LAST-MODIFIED:20260324T234325Z
UID:21212-1776420000-1776528000@oliveoilmarketplace.com
SUMMARY:OOM @ The Rusty Truck Market Days
DESCRIPTION:OOM @ The Rusty Truck Market Days \nCome join us\, we will have all our Oils and Balsamics available for sampling and for purchase. \nFor our customers who can’t make it to the store: If you have any special request for any of the products we carry\, let us know and we will be sure to bring them with us for you \nThe Spring Market is one you won’t want to miss!!!\nLoad up ladies!!! It is a girls day trip you cant pass up!\nShop over 100 vendors!\n📆 April 17th 4pm-8pm & April 18th 10am-4pm\n🌎 Expo Hall- Du Quoin State Fair grounds Du Quoin Il\n👛 Shop over 100 vendors\n🚚 Food Trucks on Site\n💲 Admission $5 adults / Kids 12 and under free\n💲 ATM on site\nJoin us for our first Market of 2026! Shop Small and Support local!
URL:https://oliveoilmarketplace.com/event/oom-the-rusty-truck-market-days/
LOCATION:Illinois State Fairgrounds – Duquoin\, 655 Executive Dr\, Duquoin\, 62832\, United States
CATEGORIES:Olive Oil Marketplace
ATTACH;FMTTYPE=image/jpeg:https://oliveoilmarketplace.com/wp-content/uploads/2026/03/Rusty-Truck-Market-Days.jpg
END:VEVENT
END:VCALENDAR